BEGIN:VCALENDAR
VERSION:2.0
PRODID:-//Tukios.com/
BEGIN:VEVENT
UID:edd15909-dd41-4ce9-9fc0-ef8e6e4b29b5@obits.slaterfuneral.com
DTSTAMP:20260422T071605Z
DTSTART:20260502T150000Z
DTEND:20260502T160000Z
SUMMARY:Interment
DESCRIPTION:
URL:https://obits.slaterfuneral.com/jeffrey-griffith
LOCATION:Mount Calvary Mausoleum 474 Goffstown Road  Manchester NH 03102
GEO:43.0057025;-71.4859449
END:VEVENT
END:VCALENDAR