BEGIN:VCALENDAR
VERSION:2.0
PRODID:-//Tukios.com/
BEGIN:VEVENT
UID:c0db13df-0a9b-477c-8f9a-c8db5744fb57@obits.slaterfuneral.com
DTSTAMP:20260422T070922Z
DTSTART:20260502T150000Z
DTEND:20260502T160000Z
SUMMARY:Celebration of Life
DESCRIPTION:
URL:https://obits.slaterfuneral.com/jeffrey-griffith
LOCATION:Bishop’s Chapel at Mount Calvary Cemetery 13903 Central Avenue 
	 Upper Marlboro MD 20774
GEO:38.8985694;-76.7657647
END:VEVENT
END:VCALENDAR