BEGIN:VCALENDAR
VERSION:2.0
PRODID:-//Tukios.com/
BEGIN:VEVENT
UID:11b53b57-4f3c-4f92-ad72-1202870b0f78@obits.slaterfuneral.com
DTSTAMP:20260424T212647Z
DTSTART:20260504T151500Z
DTEND:20260504T161500Z
SUMMARY:Interment
DESCRIPTION:
URL:https://obits.slaterfuneral.com/james-thomas-murray
LOCATION: 2900 Washington Rd  Canonsburg PA 15317
GEO:40.3011901;-80.1030086
END:VEVENT
END:VCALENDAR