BEGIN:VCALENDAR
VERSION:2.0
PRODID:-//Tukios.com/
BEGIN:VEVENT
UID:fcb88bbf-543f-4910-a334-a064003dd259@obits.slaterfuneral.com
DTSTAMP:20260424T212702Z
DTSTART:20260504T140000Z
DTEND:20260504T150000Z
SUMMARY:Mass
DESCRIPTION:
URL:https://obits.slaterfuneral.com/james-thomas-murray
LOCATION:St. Michael the Archangel Parish, Our Lady of Grace Church  Kane 
	Blvd  Scott Township PA 15243
GEO:40.3750067;-80.0873557
END:VEVENT
END:VCALENDAR