BEGIN:VCALENDAR
VERSION:2.0
PRODID:-//Tukios.com/
BEGIN:VEVENT
UID:1604fe02-a31f-4a09-8087-8402cc883833@obits.slaterfuneral.com
DTSTAMP:20260423T113659Z
DTSTART:20260422T140000Z
DTEND:20260422T150000Z
SUMMARY:Mass
DESCRIPTION:
URL:https://obits.slaterfuneral.com/fernando-abbondanza
LOCATION:St. Bernard Church 311 Washington Road   Pittsburgh  PA 15216
GEO:40.3866087;-80.0429782
END:VEVENT
END:VCALENDAR