BEGIN:VCALENDAR
VERSION:2.0
PRODID:-//Tukios.com/
BEGIN:VEVENT
UID:89bb8627-4e48-4a2b-b7ff-8ef9ddc11d65@obits.slaterfuneral.com
DTSTAMP:20260423T115723Z
DTSTART:20260421T220000Z
DTEND:20260422T000000Z
SUMMARY:Visitation
DESCRIPTION:
URL:https://obits.slaterfuneral.com/fernando-abbondanza
LOCATION:William Slater II Funeral Service 1650 Greentree Rd  Pittsburgh 
	PA 15220
GEO:40.4003886;-80.0652793
END:VEVENT
END:VCALENDAR