BEGIN:VCALENDAR
VERSION:2.0
PRODID:-//Tukios.com/
BEGIN:VEVENT
UID:0a9327d7-0dcb-4ffd-a3b4-415141968473@obits.slaterfuneral.com
DTSTAMP:20260424T233023Z
DTSTART:20260530T140000Z
DTEND:20260530T150000Z
SUMMARY:Mass
DESCRIPTION:
URL:https://obits.slaterfuneral.com/brian-mcbride
LOCATION:St. Paul of the Cross Parish, St. Anne Church 400 Hoodridge Dr  
	Pittsburgh PA 15234
GEO:40.3658546;-80.0340184
END:VEVENT
END:VCALENDAR