BEGIN:VCALENDAR
VERSION:2.0
PRODID:-//Tukios.com/
BEGIN:VEVENT
UID:f21f1f9e-0948-437a-b954-7d1f3a9c85d1@obits.slaterfuneral.com
DTSTAMP:20260424T232446Z
DTSTART:20260529T200000Z
DTEND:20260530T000000Z
SUMMARY:Visitation
DESCRIPTION:
URL:https://obits.slaterfuneral.com/brian-mcbride
LOCATION:William Slater II Funeral Service 1650 Greentree Rd  Pittsburgh 
	PA 15220
GEO:40.4003886;-80.0652793
END:VEVENT
END:VCALENDAR